Package: rprimer Version: 1.10.0 Command: chmod a+r rprimer -R && F:\biocbuild\bbs-3.20-bioc\R\bin\R.exe CMD build --keep-empty-dirs --no-resave-data rprimer StartedAt: 2025-02-03 21:46:42 -0500 (Mon, 03 Feb 2025) EndedAt: 2025-02-03 21:48:12 -0500 (Mon, 03 Feb 2025) EllapsedTime: 90.2 seconds RetCode: 0 Status: OK PackageFile: rprimer_1.10.0.tar.gz PackageFileSize: 1.278 MiB