Package: rprimer Version: 1.10.0 Command: F:\biocbuild\bbs-3.20-bioc\R\bin\R.exe CMD check --no-multiarch --install=check:rprimer.install-out.txt --library=F:\biocbuild\bbs-3.20-bioc\R\library --no-vignettes --timings rprimer_1.10.0.tar.gz StartedAt: 2025-02-04 05:43:40 -0500 (Tue, 04 Feb 2025) EndedAt: 2025-02-04 05:47:20 -0500 (Tue, 04 Feb 2025) EllapsedTime: 219.6 seconds RetCode: 0 Status: OK CheckDir: rprimer.Rcheck Warnings: 0