Package: rprimer Version: 1.10.0 Command: /home/biocbuild/R/R/bin/R CMD check --install=check:rprimer.install-out.txt --library=/home/biocbuild/R/R/site-library --no-vignettes --timings rprimer_1.10.0.tar.gz StartedAt: 2025-02-18 10:39:02 -0000 (Tue, 18 Feb 2025) EndedAt: 2025-02-18 10:42:47 -0000 (Tue, 18 Feb 2025) EllapsedTime: 225.3 seconds RetCode: 0 Status: OK CheckDir: rprimer.Rcheck Warnings: 0