Package: rpx Version: 2.14.0 Command: /home/biocbuild/bbs-3.20-bioc/R/bin/R CMD check --install=check:rpx.install-out.txt --library=/home/biocbuild/bbs-3.20-bioc/R/site-library --timings rpx_2.14.0.tar.gz StartedAt: 2025-02-04 01:57:50 -0500 (Tue, 04 Feb 2025) EndedAt: 2025-02-04 01:58:40 -0500 (Tue, 04 Feb 2025) EllapsedTime: 50.0 seconds RetCode: 1 Status: ERROR CheckDir: rpx.Rcheck Warnings: NA