Package: rpx Version: 2.14.0 Command: /home/biocbuild/R/R/bin/R CMD build --keep-empty-dirs --no-resave-data rpx StartedAt: 2025-01-31 02:18:14 -0000 (Fri, 31 Jan 2025) EndedAt: 2025-01-31 02:18:34 -0000 (Fri, 31 Jan 2025) EllapsedTime: 20.0 seconds RetCode: 0 Status: OK PackageFile: rpx_2.14.0.tar.gz PackageFileSize: 383.6 KiB