Package: rqt Version: 1.32.0 Command: /Library/Frameworks/R.framework/Resources/bin/R CMD check --install=check:rqt.install-out.txt --library=/Library/Frameworks/R.framework/Resources/library --no-vignettes --timings rqt_1.32.0.tar.gz StartedAt: 2025-02-05 08:11:27 -0500 (Wed, 05 Feb 2025) EndedAt: 2025-02-05 08:14:51 -0500 (Wed, 05 Feb 2025) EllapsedTime: 204.3 seconds RetCode: 0 Status: OK CheckDir: rqt.Rcheck Warnings: 0