Package: rqt Version: 1.32.0 Command: /Library/Frameworks/R.framework/Resources/bin/R CMD INSTALL rqt StartedAt: 2025-02-03 17:53:38 -0500 (Mon, 03 Feb 2025) EndedAt: 2025-02-03 17:54:09 -0500 (Mon, 03 Feb 2025) EllapsedTime: 31.3 seconds RetCode: 0 Status: OK