Package: rqubic Version: 1.52.0 Command: /Library/Frameworks/R.framework/Resources/bin/R CMD build --keep-empty-dirs --no-resave-data rqubic StartedAt: 2025-02-03 21:51:12 -0500 (Mon, 03 Feb 2025) EndedAt: 2025-02-03 21:51:49 -0500 (Mon, 03 Feb 2025) EllapsedTime: 37.7 seconds RetCode: 0 Status: OK PackageFile: rqubic_1.52.0.tar.gz PackageFileSize: 189.2 KiB