Package: rqubic Version: 1.52.0 Command: /home/biocbuild/R/R/bin/R CMD INSTALL rqubic StartedAt: 2025-02-03 21:14:08 -0000 (Mon, 03 Feb 2025) EndedAt: 2025-02-03 21:14:20 -0000 (Mon, 03 Feb 2025) EllapsedTime: 11.8 seconds RetCode: 0 Status: OK