Package: rrvgo Version: 1.18.0 Command: rm -rf rrvgo.buildbin-libdir && mkdir rrvgo.buildbin-libdir && /Users/biocbuild/BBS/utils/build-universal.sh rrvgo_1.18.0.tar.gz /Library/Frameworks/R.framework/Resources/bin/R rrvgo.buildbin-libdir StartedAt: 2025-02-05 17:33:31 -0500 (Wed, 05 Feb 2025) EndedAt: 2025-02-05 17:33:56 -0500 (Wed, 05 Feb 2025) EllapsedTime: 24.9 seconds RetCode: 0 Status: OK PackageFile: rrvgo_1.18.0.tgz PackageFileSize: 1.402 MiB