Package: rrvgo Version: 1.18.0 Command: /Library/Frameworks/R.framework/Resources/bin/R CMD INSTALL rrvgo StartedAt: 2025-02-03 16:38:51 -0500 (Mon, 03 Feb 2025) EndedAt: 2025-02-03 16:39:13 -0500 (Mon, 03 Feb 2025) EllapsedTime: 21.8 seconds RetCode: 0 Status: OK