Package: rrvgo Version: 1.18.0 Command: /Library/Frameworks/R.framework/Resources/bin/R CMD build --keep-empty-dirs --no-resave-data rrvgo StartedAt: 2025-02-03 21:51:20 -0500 (Mon, 03 Feb 2025) EndedAt: 2025-02-03 21:58:46 -0500 (Mon, 03 Feb 2025) EllapsedTime: 446.4 seconds RetCode: 0 Status: OK PackageFile: rrvgo_1.18.0.tar.gz PackageFileSize: 1.87 MiB