Package: rrvgo Version: 1.18.0 Command: rm -rf rrvgo.buildbin-libdir && mkdir rrvgo.buildbin-libdir && F:\biocbuild\bbs-3.20-bioc\R\bin\R.exe CMD INSTALL --build --library=rrvgo.buildbin-libdir rrvgo_1.18.0.tar.gz StartedAt: 2025-02-04 09:23:36 -0500 (Tue, 04 Feb 2025) EndedAt: 2025-02-04 09:24:10 -0500 (Tue, 04 Feb 2025) EllapsedTime: 33.5 seconds RetCode: 0 Status: OK PackageFile: rrvgo_1.18.0.zip PackageFileSize: 1.075 MiB