Package: rrvgo Version: 1.18.0 Command: chmod a+r rrvgo -R && F:\biocbuild\bbs-3.20-bioc\R\bin\R.exe CMD build --keep-empty-dirs --no-resave-data rrvgo StartedAt: 2025-02-03 21:47:22 -0500 (Mon, 03 Feb 2025) EndedAt: 2025-02-03 21:50:49 -0500 (Mon, 03 Feb 2025) EllapsedTime: 207.2 seconds RetCode: 0 Status: OK PackageFile: rrvgo_1.18.0.tar.gz PackageFileSize: 1.544 MiB