Package: rsbml Version: 2.64.0 Command: /home/biocbuild/bbs-3.20-bioc/R/bin/R CMD check --install=check:rsbml.install-out.txt --library=/home/biocbuild/bbs-3.20-bioc/R/site-library --timings rsbml_2.64.0.tar.gz StartedAt: 2025-02-04 01:59:20 -0500 (Tue, 04 Feb 2025) EndedAt: 2025-02-04 02:00:00 -0500 (Tue, 04 Feb 2025) EllapsedTime: 40.0 seconds RetCode: 0 Status: WARNINGS CheckDir: rsbml.Rcheck Warnings: 1