Package: rsbml Version: 2.64.0 Command: /home/biocbuild/bbs-3.20-bioc/R/bin/R CMD INSTALL rsbml StartedAt: 2025-02-03 15:15:36 -0500 (Mon, 03 Feb 2025) EndedAt: 2025-02-03 15:15:52 -0500 (Mon, 03 Feb 2025) EllapsedTime: 16.8 seconds RetCode: 0 Status: OK