Package: rsbml Version: 2.64.0 Command: rm -rf rsbml.buildbin-libdir && mkdir rsbml.buildbin-libdir && F:\biocbuild\bbs-3.20-bioc\R\bin\R.exe CMD INSTALL --build --library=rsbml.buildbin-libdir rsbml_2.64.0.tar.gz StartedAt: 2025-02-04 09:23:40 -0500 (Tue, 04 Feb 2025) EndedAt: 2025-02-04 09:26:44 -0500 (Tue, 04 Feb 2025) EllapsedTime: 183.2 seconds RetCode: 0 Status: OK PackageFile: rsbml_2.64.0.zip PackageFileSize: 6.514 MiB