Package: rsbml Version: 2.64.0 Command: chmod a+r rsbml -R && F:\biocbuild\bbs-3.20-bioc\R\bin\R.exe CMD build --keep-empty-dirs --no-resave-data rsbml StartedAt: 2025-02-03 21:47:25 -0500 (Mon, 03 Feb 2025) EndedAt: 2025-02-03 21:50:26 -0500 (Mon, 03 Feb 2025) EllapsedTime: 180.3 seconds RetCode: 0 Status: OK PackageFile: rsbml_2.64.0.tar.gz PackageFileSize: 500.1 KiB