Package: rsbml Version: 2.64.0 Command: F:\biocbuild\bbs-3.20-bioc\R\bin\R.exe CMD INSTALL rsbml StartedAt: 2025-02-03 15:36:49 -0500 (Mon, 03 Feb 2025) EndedAt: 2025-02-03 15:40:27 -0500 (Mon, 03 Feb 2025) EllapsedTime: 217.5 seconds RetCode: 0 Status: OK