Package: rsbml Version: 2.64.0 Command: /home/biocbuild/R/R/bin/R CMD build --keep-empty-dirs --no-resave-data rsbml StartedAt: 2025-02-04 02:27:41 -0000 (Tue, 04 Feb 2025) EndedAt: 2025-02-04 02:27:47 -0000 (Tue, 04 Feb 2025) EllapsedTime: 6.0 seconds RetCode: 1 Status: ERROR PackageFile: None PackageFileSize: NA