Package: rsemmed Version: 1.16.0 Command: /Library/Frameworks/R.framework/Resources/bin/R CMD build --keep-empty-dirs --no-resave-data rsemmed StartedAt: 2025-02-04 07:02:26 -0500 (Tue, 04 Feb 2025) EndedAt: 2025-02-04 07:02:53 -0500 (Tue, 04 Feb 2025) EllapsedTime: 27.5 seconds RetCode: 0 Status: OK PackageFile: rsemmed_1.16.0.tar.gz PackageFileSize: 2.179 MiB