Package: rsemmed Version: 1.16.0 Command: /Library/Frameworks/R.framework/Resources/bin/R CMD INSTALL rsemmed StartedAt: 2025-02-03 15:21:48 -0500 (Mon, 03 Feb 2025) EndedAt: 2025-02-03 15:21:53 -0500 (Mon, 03 Feb 2025) EllapsedTime: 5.3 seconds RetCode: 0 Status: OK