Package: rsemmed Version: 1.16.0 Command: rm -rf rsemmed.buildbin-libdir && mkdir rsemmed.buildbin-libdir && /Users/biocbuild/BBS/utils/build-universal.sh rsemmed_1.16.0.tar.gz /Library/Frameworks/R.framework/Resources/bin/R rsemmed.buildbin-libdir StartedAt: 2024-11-20 04:48:06 -0500 (Wed, 20 Nov 2024) EndedAt: 2024-11-20 04:48:15 -0500 (Wed, 20 Nov 2024) EllapsedTime: 9.2 seconds RetCode: 0 Status: OK PackageFile: rsemmed_1.16.0.tgz PackageFileSize: 2.212 MiB