Package: rsemmed Version: 1.16.0 Command: /Library/Frameworks/R.framework/Resources/bin/R CMD build --keep-empty-dirs --no-resave-data rsemmed StartedAt: 2025-02-03 21:51:49 -0500 (Mon, 03 Feb 2025) EndedAt: 2025-02-03 21:52:36 -0500 (Mon, 03 Feb 2025) EllapsedTime: 46.5 seconds RetCode: 0 Status: OK PackageFile: rsemmed_1.16.0.tar.gz PackageFileSize: 2.163 MiB