Package: rsemmed Version: 1.16.0 Command: /home/biocbuild/bbs-3.20-bioc/R/bin/R CMD build --keep-empty-dirs --no-resave-data --md5 rsemmed StartedAt: 2025-02-03 19:05:03 -0500 (Mon, 03 Feb 2025) EndedAt: 2025-02-03 19:05:24 -0500 (Mon, 03 Feb 2025) EllapsedTime: 20.0 seconds RetCode: 0 Status: OK PackageFile: rsemmed_1.16.0.tar.gz PackageFileSize: 2.125 MiB