Package: rtracklayer
Version: 1.66.0
Maintainer: Michael Lawrence
MaintainerEmail: michafla at gene.com
git_url: https://git.bioconductor.org/packages/rtracklayer
git_branch: RELEASE_3_20
git_last_commit: d81035b
git_last_commit_date: 2024-10-29 09:29:03 -0500 (Tue, 29 Oct 2024)