Package: rtracklayer Version: 1.66.0 Command: /Library/Frameworks/R.framework/Resources/bin/R CMD build --keep-empty-dirs --no-resave-data rtracklayer StartedAt: 2025-02-04 07:06:05 -0500 (Tue, 04 Feb 2025) EndedAt: 2025-02-04 07:07:49 -0500 (Tue, 04 Feb 2025) EllapsedTime: 103.7 seconds RetCode: 0 Status: OK PackageFile: rtracklayer_1.66.0.tar.gz PackageFileSize: 3.914 MiB