Package: rtracklayer Version: 1.66.0 Command: /Library/Frameworks/R.framework/Resources/bin/R CMD INSTALL rtracklayer StartedAt: 2025-02-03 15:47:04 -0500 (Mon, 03 Feb 2025) EndedAt: 2025-02-03 15:48:04 -0500 (Mon, 03 Feb 2025) EllapsedTime: 60.1 seconds RetCode: 0 Status: OK