Package: rtracklayer Version: 1.66.0 Command: /Library/Frameworks/R.framework/Resources/bin/R CMD build --keep-empty-dirs --no-resave-data rtracklayer StartedAt: 2025-02-03 21:53:33 -0500 (Mon, 03 Feb 2025) EndedAt: 2025-02-03 21:56:29 -0500 (Mon, 03 Feb 2025) EllapsedTime: 176.6 seconds RetCode: 0 Status: OK PackageFile: rtracklayer_1.66.0.tar.gz PackageFileSize: 3.914 MiB