Package: rtracklayer Version: 1.66.0 Command: /Library/Frameworks/R.framework/Resources/bin/R CMD INSTALL rtracklayer StartedAt: 2025-02-03 15:37:16 -0500 (Mon, 03 Feb 2025) EndedAt: 2025-02-03 15:39:12 -0500 (Mon, 03 Feb 2025) EllapsedTime: 115.2 seconds RetCode: 0 Status: OK