Package: rtracklayer Version: 1.66.0 Command: /home/biocbuild/bbs-3.20-bioc/R/bin/R CMD check --install=check:rtracklayer.install-out.txt --library=/home/biocbuild/bbs-3.20-bioc/R/site-library --timings rtracklayer_1.66.0.tar.gz StartedAt: 2025-02-04 02:00:58 -0500 (Tue, 04 Feb 2025) EndedAt: 2025-02-04 02:06:56 -0500 (Tue, 04 Feb 2025) EllapsedTime: 357.4 seconds RetCode: 0 Status: WARNINGS CheckDir: rtracklayer.Rcheck Warnings: 5