Package: rtracklayer Version: 1.66.0 Command: F:\biocbuild\bbs-3.20-bioc\R\bin\R.exe CMD INSTALL rtracklayer StartedAt: 2025-02-03 16:25:24 -0500 (Mon, 03 Feb 2025) EndedAt: 2025-02-03 16:29:10 -0500 (Mon, 03 Feb 2025) EllapsedTime: 226.0 seconds RetCode: 0 Status: OK