Package: runibic
Version: 1.28.0
Command: /home/biocbuild/R/R/bin/R CMD check --install=check:runibic.install-out.txt --library=/home/biocbuild/R/R/site-library --no-vignettes --timings runibic_1.28.0.tar.gz
StartedAt: 2024-11-20 11:57:12 -0000 (Wed, 20 Nov 2024)
EndedAt: 2024-11-20 12:00:54 -0000 (Wed, 20 Nov 2024)
EllapsedTime: 221.8 seconds
RetCode: 0
Status: OK
CheckDir: runibic.Rcheck
Warnings: 0