Package: runibic Version: 1.28.0 Command: rm -rf runibic.buildbin-libdir && mkdir runibic.buildbin-libdir && F:\biocbuild\bbs-3.20-bioc\R\bin\R.exe CMD INSTALL --build --library=runibic.buildbin-libdir runibic_1.28.0.tar.gz StartedAt: 2025-02-04 09:24:38 -0500 (Tue, 04 Feb 2025) EndedAt: 2025-02-04 09:25:23 -0500 (Tue, 04 Feb 2025) EllapsedTime: 45.0 seconds RetCode: 0 Status: OK PackageFile: runibic_1.28.0.zip PackageFileSize: 536.9 KiB