Package: runibic Version: 1.28.0 Command: chmod a+r runibic -R && F:\biocbuild\bbs-3.20-bioc\R\bin\R.exe CMD build --keep-empty-dirs --no-resave-data runibic StartedAt: 2025-02-03 21:50:04 -0500 (Mon, 03 Feb 2025) EndedAt: 2025-02-03 21:51:22 -0500 (Mon, 03 Feb 2025) EllapsedTime: 78.4 seconds RetCode: 0 Status: OK PackageFile: runibic_1.28.0.tar.gz PackageFileSize: 44.89 KiB