Package: runibic Version: 1.28.0 Command: /home/biocbuild/R/R/bin/R CMD build --keep-empty-dirs --no-resave-data runibic StartedAt: 2025-02-04 02:30:57 -0000 (Tue, 04 Feb 2025) EndedAt: 2025-02-04 02:32:03 -0000 (Tue, 04 Feb 2025) EllapsedTime: 66.1 seconds RetCode: 0 Status: OK PackageFile: runibic_1.28.0.tar.gz PackageFileSize: 45.67 KiB