Package: sSNAPPY Version: 1.10.0 Command: rm -rf sSNAPPY.buildbin-libdir && mkdir sSNAPPY.buildbin-libdir && /Users/biocbuild/BBS/utils/build-universal.sh sSNAPPY_1.10.0.tar.gz /Library/Frameworks/R.framework/Resources/bin/R sSNAPPY.buildbin-libdir StartedAt: 2025-02-01 17:04:51 -0500 (Sat, 01 Feb 2025) EndedAt: 2025-02-01 17:05:32 -0500 (Sat, 01 Feb 2025) EllapsedTime: 40.7 seconds RetCode: 0 Status: OK PackageFile: sSNAPPY_1.10.0.tgz PackageFileSize: 4.293 MiB