Package: sSNAPPY Version: 1.10.0 Command: /Library/Frameworks/R.framework/Resources/bin/R CMD build --keep-empty-dirs --no-resave-data sSNAPPY StartedAt: 2025-01-31 08:57:58 -0500 (Fri, 31 Jan 2025) EndedAt: 2025-01-31 09:10:13 -0500 (Fri, 31 Jan 2025) EllapsedTime: 734.1 seconds RetCode: 0 Status: OK PackageFile: sSNAPPY_1.10.0.tar.gz PackageFileSize: 4.226 MiB