Package: sSNAPPY Version: 1.10.0 Command: /Library/Frameworks/R.framework/Resources/bin/R CMD check --install=check:sSNAPPY.install-out.txt --library=/Library/Frameworks/R.framework/Resources/library --no-vignettes --timings sSNAPPY_1.10.0.tar.gz StartedAt: 2025-02-01 10:57:21 -0500 (Sat, 01 Feb 2025) EndedAt: 2025-02-01 11:06:28 -0500 (Sat, 01 Feb 2025) EllapsedTime: 547.7 seconds RetCode: 0 Status: OK CheckDir: sSNAPPY.Rcheck Warnings: 0