Package: sSNAPPY Version: 1.10.0 Command: rm -rf sSNAPPY.buildbin-libdir && mkdir sSNAPPY.buildbin-libdir && /Users/biocbuild/BBS/utils/build-universal.sh sSNAPPY_1.10.0.tar.gz /Library/Frameworks/R.framework/Resources/bin/R sSNAPPY.buildbin-libdir StartedAt: 2025-01-31 13:48:04 -0500 (Fri, 31 Jan 2025) EndedAt: 2025-01-31 13:49:16 -0500 (Fri, 31 Jan 2025) EllapsedTime: 71.2 seconds RetCode: 0 Status: OK PackageFile: sSNAPPY_1.10.0.tgz PackageFileSize: 4.369 MiB