Package: sSNAPPY Version: 1.10.0 Command: /Library/Frameworks/R.framework/Resources/bin/R CMD build --keep-empty-dirs --no-resave-data sSNAPPY StartedAt: 2025-02-10 22:43:00 -0500 (Mon, 10 Feb 2025) EndedAt: 2025-02-10 23:00:09 -0500 (Mon, 10 Feb 2025) EllapsedTime: 1028.9 seconds RetCode: 0 Status: OK PackageFile: sSNAPPY_1.10.0.tar.gz PackageFileSize: 4.301 MiB