Package: sSNAPPY Version: 1.10.0 Command: /Library/Frameworks/R.framework/Resources/bin/R CMD INSTALL sSNAPPY StartedAt: 2025-02-03 15:35:00 -0500 (Mon, 03 Feb 2025) EndedAt: 2025-02-03 15:36:06 -0500 (Mon, 03 Feb 2025) EllapsedTime: 66.3 seconds RetCode: 0 Status: OK