Package: sSNAPPY Version: 1.10.0 Command: /home/biocbuild/bbs-3.20-bioc/R/bin/R CMD check --install=check:sSNAPPY.install-out.txt --library=/home/biocbuild/bbs-3.20-bioc/R/site-library --timings sSNAPPY_1.10.0.tar.gz StartedAt: 2025-01-31 02:45:55 -0500 (Fri, 31 Jan 2025) EndedAt: 2025-01-31 03:01:24 -0500 (Fri, 31 Jan 2025) EllapsedTime: 929.1 seconds RetCode: 0 Status: OK CheckDir: sSNAPPY.Rcheck Warnings: 0