Package: sSNAPPY Version: 1.10.0 Command: rm -rf sSNAPPY.buildbin-libdir && mkdir sSNAPPY.buildbin-libdir && F:\biocbuild\bbs-3.20-bioc\R\bin\R.exe CMD INSTALL --build --library=sSNAPPY.buildbin-libdir sSNAPPY_1.10.0.tar.gz StartedAt: 2025-01-31 09:43:39 -0500 (Fri, 31 Jan 2025) EndedAt: 2025-01-31 09:44:23 -0500 (Fri, 31 Jan 2025) EllapsedTime: 44.2 seconds RetCode: 0 Status: OK PackageFile: sSNAPPY_1.10.0.zip PackageFileSize: 2.396 MiB