Package: sSNAPPY Version: 1.10.0 Command: chmod a+r sSNAPPY -R && F:\biocbuild\bbs-3.20-bioc\R\bin\R.exe CMD build --keep-empty-dirs --no-resave-data sSNAPPY StartedAt: 2025-01-30 22:08:33 -0500 (Thu, 30 Jan 2025) EndedAt: 2025-01-30 22:19:18 -0500 (Thu, 30 Jan 2025) EllapsedTime: 644.1 seconds RetCode: 0 Status: OK PackageFile: sSNAPPY_1.10.0.tar.gz PackageFileSize: 2.33 MiB