Package: sSNAPPY Version: 1.10.0 Command: /home/biocbuild/R/R/bin/R CMD build --keep-empty-dirs --no-resave-data sSNAPPY StartedAt: 2025-01-31 02:59:55 -0000 (Fri, 31 Jan 2025) EndedAt: 2025-01-31 03:07:44 -0000 (Fri, 31 Jan 2025) EllapsedTime: 469.4 seconds RetCode: 0 Status: OK PackageFile: sSNAPPY_1.10.0.tar.gz PackageFileSize: 2.675 MiB