Package: sSeq Version: 1.44.0 Command: /Library/Frameworks/R.framework/Resources/bin/R CMD check --install=check:sSeq.install-out.txt --library=/Library/Frameworks/R.framework/Resources/library --no-vignettes --timings sSeq_1.44.0.tar.gz StartedAt: 2025-02-01 10:56:45 -0500 (Sat, 01 Feb 2025) EndedAt: 2025-02-01 10:59:32 -0500 (Sat, 01 Feb 2025) EllapsedTime: 166.9 seconds RetCode: 0 Status: OK CheckDir: sSeq.Rcheck Warnings: 0