Package: sSeq Version: 1.44.0 Command: /Library/Frameworks/R.framework/Resources/bin/R CMD INSTALL sSeq StartedAt: 2025-01-30 15:08:48 -0500 (Thu, 30 Jan 2025) EndedAt: 2025-01-30 15:08:52 -0500 (Thu, 30 Jan 2025) EllapsedTime: 4.0 seconds RetCode: 0 Status: OK