Package: sSeq Version: 1.44.0 Command: /Library/Frameworks/R.framework/Resources/bin/R CMD build --keep-empty-dirs --no-resave-data sSeq StartedAt: 2024-11-08 19:19:06 -0500 (Fri, 08 Nov 2024) EndedAt: 2024-11-08 19:19:31 -0500 (Fri, 08 Nov 2024) EllapsedTime: 25.3 seconds RetCode: 0 Status: OK PackageFile: sSeq_1.44.0.tar.gz PackageFileSize: 4.201 MiB