Package: sSeq Version: 1.44.0 Command: /home/biocbuild/R/R/bin/R CMD INSTALL sSeq StartedAt: 2024-11-19 20:29:17 -0000 (Tue, 19 Nov 2024) EndedAt: 2024-11-19 20:29:48 -0000 (Tue, 19 Nov 2024) EllapsedTime: 31.4 seconds RetCode: 0 Status: OK